git_url: https://git.bioconductor.org/packages/flowGate git_branch: RELEASE_3_17 git_last_commit: 6fdbd77 git_last_commit_date: 2023-04-25 11:43:22 -0400 (Tue, 25 Apr 2023) Package: flowGate Version: 1.0.0 Maintainer: Andrew Wight MaintainerEmail: andrew.wight10 at gmail.com