git_url: https://git.bioconductor.org/packages/hpar git_branch: RELEASE_3_17 git_last_commit: c54cc73 git_last_commit_date: 2023-04-25 10:24:04 -0400 (Tue, 25 Apr 2023) Package: hpar Version: 1.42.0 Maintainer: Laurent Gatto MaintainerEmail: laurent.gatto at uclouvain.be