Package: hpar Version: 1.42.0 Command: /Library/Frameworks/R.framework/Resources/bin/R CMD check --install=check:hpar.install-out.txt --library=/Library/Frameworks/R.framework/Resources/library --no-vignettes --timings hpar_1.42.0.tar.gz StartedAt: 2023-10-18 01:03:16 -0400 (Wed, 18 Oct 2023) EndedAt: 2023-10-18 01:07:47 -0400 (Wed, 18 Oct 2023) EllapsedTime: 271.7 seconds RetCode: 0 Status: OK CheckDir: hpar.Rcheck Warnings: 0