git_url: https://git.bioconductor.org/packages/ideal git_branch: RELEASE_3_17 git_last_commit: 82c7e8b git_last_commit_date: 2023-04-28 17:05:35 -0400 (Fri, 28 Apr 2023) Package: ideal Version: 1.24.1 Maintainer: Federico Marini MaintainerEmail: marinif at uni-mainz.de