Package: metaCCA Version: 1.28.0 Command: /Library/Frameworks/R.framework/Resources/bin/R CMD check --install=check:metaCCA.install-out.txt --library=/Library/Frameworks/R.framework/Resources/library --no-vignettes --timings metaCCA_1.28.0.tar.gz StartedAt: 2023-10-18 05:52:52 -0400 (Wed, 18 Oct 2023) EndedAt: 2023-10-18 05:53:30 -0400 (Wed, 18 Oct 2023) EllapsedTime: 37.9 seconds RetCode: 0 Status: WARNINGS CheckDir: metaCCA.Rcheck Warnings: 1