Package: microbiomeExplorer Version: 1.10.0 Command: /Library/Frameworks/R.framework/Resources/bin/R CMD build --keep-empty-dirs --no-resave-data microbiomeExplorer StartedAt: 2023-10-16 09:54:19 -0400 (Mon, 16 Oct 2023) EndedAt: 2023-10-16 09:55:27 -0400 (Mon, 16 Oct 2023) EllapsedTime: 68.2 seconds RetCode: 0 Status: OK PackageFile: microbiomeExplorer_1.10.0.tar.gz PackageFileSize: 2.976 MiB