Package: mistyR Version: 1.8.1 Command: /Library/Frameworks/R.framework/Resources/bin/R CMD build --keep-empty-dirs --no-resave-data mistyR StartedAt: 2023-10-16 10:19:52 -0400 (Mon, 16 Oct 2023) EndedAt: 2023-10-16 10:25:54 -0400 (Mon, 16 Oct 2023) EllapsedTime: 361.9 seconds RetCode: 0 Status: OK PackageFile: mistyR_1.8.1.tar.gz PackageFileSize: 2.939 MiB