Package: monocle Version: 2.28.0 Command: rm -rf monocle.buildbin-libdir && mkdir monocle.buildbin-libdir && /Users/biocbuild/BBS/utils/build-universal.sh monocle_2.28.0.tar.gz /Library/Frameworks/R.framework/Resources/bin/R monocle.buildbin-libdir StartedAt: 2023-10-19 15:04:02 -0400 (Thu, 19 Oct 2023) EndedAt: 2023-10-19 15:05:10 -0400 (Thu, 19 Oct 2023) EllapsedTime: 68.5 seconds RetCode: 0 Status: OK PackageFile: monocle_2.28.0.tgz PackageFileSize: 1.41 MiB