git_url: https://git.bioconductor.org/packages/multiSight git_branch: RELEASE_3_17 git_last_commit: 5d6d744 git_last_commit_date: 2023-04-25 11:29:23 -0400 (Tue, 25 Apr 2023) Package: multiSight Version: 1.8.0 Maintainer: Florian Jeanneret MaintainerEmail: florian.jeanneret at cea.fr