Package: multicrispr Version: 1.10.1 Command: rm -rf multicrispr.buildbin-libdir && mkdir multicrispr.buildbin-libdir && /Users/biocbuild/BBS/utils/build-universal.sh multicrispr_1.10.1.tar.gz /Library/Frameworks/R.framework/Resources/bin/R multicrispr.buildbin-libdir StartedAt: 2023-10-19 15:16:34 -0400 (Thu, 19 Oct 2023) EndedAt: 2023-10-19 15:18:07 -0400 (Thu, 19 Oct 2023) EllapsedTime: 92.3 seconds RetCode: 0 Status: OK PackageFile: multicrispr_1.10.1.tgz PackageFileSize: 2.608 MiB