Package: multicrispr Version: 1.10.1 Command: /Library/Frameworks/R.framework/Resources/bin/R CMD INSTALL multicrispr StartedAt: 2023-10-15 18:05:47 -0400 (Sun, 15 Oct 2023) EndedAt: 2023-10-15 18:06:46 -0400 (Sun, 15 Oct 2023) EllapsedTime: 59.8 seconds RetCode: 0 Status: OK