git_url: https://git.bioconductor.org/packages/ncGTW git_branch: RELEASE_3_17 git_last_commit: 3bb485f git_last_commit_date: 2023-04-25 11:11:27 -0400 (Tue, 25 Apr 2023) Package: ncGTW Version: 1.14.0 Maintainer: Chiung-Ting Wu MaintainerEmail: ctwu at vt.edu