git_url: https://git.bioconductor.org/packages/nethet git_branch: RELEASE_3_17 git_last_commit: 707c60a git_last_commit_date: 2023-04-25 10:36:49 -0400 (Tue, 25 Apr 2023) Package: nethet Version: 1.32.0 Maintainer: Nicolas Staedler MaintainerEmail: staedler.n at gmail.com