Package: oposSOM Version: 2.18.0 Command: /Library/Frameworks/R.framework/Resources/bin/R CMD check --install=check:oposSOM.install-out.txt --library=/Library/Frameworks/R.framework/Resources/library --no-vignettes --timings oposSOM_2.18.0.tar.gz StartedAt: 2023-10-18 12:44:38 -0400 (Wed, 18 Oct 2023) EndedAt: 2023-10-18 13:01:08 -0400 (Wed, 18 Oct 2023) EllapsedTime: 989.1 seconds RetCode: 0 Status: WARNINGS CheckDir: oposSOM.Rcheck Warnings: 2