Package: phyloseq Version: 1.44.0 Command: /Library/Frameworks/R.framework/Resources/bin/R CMD build --keep-empty-dirs --no-resave-data phyloseq StartedAt: 2023-10-16 14:15:36 -0400 (Mon, 16 Oct 2023) EndedAt: 2023-10-16 14:19:20 -0400 (Mon, 16 Oct 2023) EllapsedTime: 224.8 seconds RetCode: 1 Status: ERROR PackageFile: None PackageFileSize: NA