Package: pipeComp Version: 1.10.0 Command: /Library/Frameworks/R.framework/Resources/bin/R CMD build --keep-empty-dirs --no-resave-data pipeComp StartedAt: 2023-10-16 14:20:33 -0400 (Mon, 16 Oct 2023) EndedAt: 2023-10-16 14:23:57 -0400 (Mon, 16 Oct 2023) EllapsedTime: 204.7 seconds RetCode: 0 Status: OK PackageFile: pipeComp_1.10.0.tar.gz PackageFileSize: 3.748 MiB