Package: pkgDepTools Version: 1.65.1 Command: rm -rf pkgDepTools.buildbin-libdir && mkdir pkgDepTools.buildbin-libdir && /Users/biocbuild/BBS/utils/build-universal.sh pkgDepTools_1.65.1.tar.gz /Library/Frameworks/R.framework/Resources/bin/R pkgDepTools.buildbin-libdir StartedAt: 2023-04-20 09:26:53 -0400 (Thu, 20 Apr 2023) EndedAt: 2023-04-20 09:26:56 -0400 (Thu, 20 Apr 2023) EllapsedTime: 3.0 seconds RetCode: 0 Status: OK PackageFile: pkgDepTools_1.65.1.tgz PackageFileSize: 273.7 KiB