Package: qusage Version: 2.34.0 Command: rm -rf qusage.buildbin-libdir && mkdir qusage.buildbin-libdir && /Users/biocbuild/BBS/utils/build-universal.sh qusage_2.34.0.tar.gz /Library/Frameworks/R.framework/Resources/bin/R qusage.buildbin-libdir StartedAt: 2023-10-19 16:09:36 -0400 (Thu, 19 Oct 2023) EndedAt: 2023-10-19 16:10:06 -0400 (Thu, 19 Oct 2023) EllapsedTime: 30.2 seconds RetCode: 0 Status: OK PackageFile: qusage_2.34.0.tgz PackageFileSize: 9.829 MiB