Package: qusage Version: 2.34.0 Command: /Library/Frameworks/R.framework/Resources/bin/R CMD INSTALL qusage StartedAt: 2023-10-15 15:41:54 -0400 (Sun, 15 Oct 2023) EndedAt: 2023-10-15 15:42:11 -0400 (Sun, 15 Oct 2023) EllapsedTime: 16.3 seconds RetCode: 0 Status: OK