Package: randPack Version: 1.46.0 Command: /Library/Frameworks/R.framework/Resources/bin/R CMD check --install=check:randPack.install-out.txt --library=/Library/Frameworks/R.framework/Resources/library --no-vignettes --timings randPack_1.46.0.tar.gz StartedAt: 2023-10-18 17:19:57 -0400 (Wed, 18 Oct 2023) EndedAt: 2023-10-18 17:20:59 -0400 (Wed, 18 Oct 2023) EllapsedTime: 61.8 seconds RetCode: 0 Status: OK CheckDir: randPack.Rcheck Warnings: 0