Package: recountmethylation Version: 1.10.0 Command: rm -rf recountmethylation.buildbin-libdir && mkdir recountmethylation.buildbin-libdir && /Users/biocbuild/BBS/utils/build-universal.sh recountmethylation_1.10.0.tar.gz /Library/Frameworks/R.framework/Resources/bin/R recountmethylation.buildbin-libdir StartedAt: 2023-10-19 16:19:07 -0400 (Thu, 19 Oct 2023) EndedAt: 2023-10-19 16:19:18 -0400 (Thu, 19 Oct 2023) EllapsedTime: 10.4 seconds RetCode: 0 Status: OK PackageFile: recountmethylation_1.10.0.tgz PackageFileSize: 4.753 MiB