Package: rfaRm Version: 1.12.1 Command: /Library/Frameworks/R.framework/Resources/bin/R CMD INSTALL rfaRm StartedAt: 2023-10-15 19:21:05 -0400 (Sun, 15 Oct 2023) EndedAt: 2023-10-15 19:24:07 -0400 (Sun, 15 Oct 2023) EllapsedTime: 182.0 seconds RetCode: 0 Status: OK