git_url: https://git.bioconductor.org/packages/rnaEditr git_branch: RELEASE_3_17 git_last_commit: 19beb2c git_last_commit_date: 2023-04-25 11:23:33 -0400 (Tue, 25 Apr 2023) Package: rnaEditr Version: 1.10.0 Maintainer: Lanyu Zhang MaintainerEmail: jennyzly2016 at gmail.com