git_url: https://git.bioconductor.org/packages/scRecover git_branch: RELEASE_3_17 git_last_commit: 1ae409a git_last_commit_date: 2023-04-25 11:09:38 -0400 (Tue, 25 Apr 2023) Package: scRecover Version: 1.16.0 Maintainer: Zhun Miao MaintainerEmail: miaoz13 at tsinghua.org.cn