Package: scviR Version: 1.0.0 Command: rm -rf scviR.buildbin-libdir && mkdir scviR.buildbin-libdir && /Users/biocbuild/BBS/utils/build-universal.sh scviR_1.0.0.tar.gz /Library/Frameworks/R.framework/Resources/bin/R scviR.buildbin-libdir StartedAt: 2023-10-19 17:05:56 -0400 (Thu, 19 Oct 2023) EndedAt: 2023-10-19 17:07:19 -0400 (Thu, 19 Oct 2023) EllapsedTime: 83.4 seconds RetCode: 0 Status: OK PackageFile: scviR_1.0.0.tgz PackageFileSize: 3.454 MiB