git_url: https://git.bioconductor.org/packages/slalom git_branch: RELEASE_3_17 git_last_commit: 1e36ad4 git_last_commit_date: 2023-04-25 10:57:13 -0400 (Tue, 25 Apr 2023) Package: slalom Version: 1.22.0 Maintainer: Davis McCarthy MaintainerEmail: davis at ebi.ac.uk