Package: slalom Version: 1.21.0 Command: /Library/Frameworks/R.framework/Resources/bin/R CMD check --install=check:slalom.install-out.txt --library=/Library/Frameworks/R.framework/Resources/library --no-vignettes --timings slalom_1.21.0.tar.gz StartedAt: 2023-03-14 12:28:41 -0400 (Tue, 14 Mar 2023) EndedAt: 2023-03-14 12:30:57 -0400 (Tue, 14 Mar 2023) EllapsedTime: 135.8 seconds RetCode: 0 Status: WARNINGS CheckDir: slalom.Rcheck Warnings: 1