Package: slalom Version: 1.22.0 Command: /Library/Frameworks/R.framework/Resources/bin/R CMD INSTALL slalom StartedAt: 2023-10-15 19:02:37 -0400 (Sun, 15 Oct 2023) EndedAt: 2023-10-15 19:02:57 -0400 (Sun, 15 Oct 2023) EllapsedTime: 19.7 seconds RetCode: 1 Status: ERROR