Package: spaSim Version: 1.2.1 Command: /Library/Frameworks/R.framework/Resources/bin/R CMD build --keep-empty-dirs --no-resave-data spaSim StartedAt: 2023-10-16 21:13:55 -0400 (Mon, 16 Oct 2023) EndedAt: 2023-10-16 21:18:00 -0400 (Mon, 16 Oct 2023) EllapsedTime: 244.8 seconds RetCode: 0 Status: OK PackageFile: spaSim_1.2.1.tar.gz PackageFileSize: 3.353 MiB