Package: spaSim Version: 1.2.1 Command: /Library/Frameworks/R.framework/Resources/bin/R CMD check --install=check:spaSim.install-out.txt --library=/Library/Frameworks/R.framework/Resources/library --no-vignettes --timings spaSim_1.2.1.tar.gz StartedAt: 2023-10-19 02:54:26 -0400 (Thu, 19 Oct 2023) EndedAt: 2023-10-19 03:05:37 -0400 (Thu, 19 Oct 2023) EllapsedTime: 670.9 seconds RetCode: 0 Status: OK CheckDir: spaSim.Rcheck Warnings: 0