Package: spaSim Version: 1.2.1 Command: /Library/Frameworks/R.framework/Resources/bin/R CMD INSTALL spaSim StartedAt: 2023-10-15 16:41:55 -0400 (Sun, 15 Oct 2023) EndedAt: 2023-10-15 16:42:47 -0400 (Sun, 15 Oct 2023) EllapsedTime: 52.9 seconds RetCode: 0 Status: OK