Package: statTarget Version: 1.30.0 Command: /Library/Frameworks/R.framework/Resources/bin/R CMD build --keep-empty-dirs --no-resave-data statTarget StartedAt: 2023-10-16 22:19:43 -0400 (Mon, 16 Oct 2023) EndedAt: 2023-10-16 22:20:04 -0400 (Mon, 16 Oct 2023) EllapsedTime: 20.5 seconds RetCode: 0 Status: OK PackageFile: statTarget_1.30.0.tar.gz PackageFileSize: 779.1 KiB