git_url: https://git.bioconductor.org/packages/swfdr git_branch: RELEASE_3_17 git_last_commit: d9de4bc git_last_commit_date: 2023-04-25 10:52:24 -0400 (Tue, 25 Apr 2023) Package: swfdr Version: 1.26.0 Maintainer: Simina M. Boca , Jeffrey T. Leek MaintainerEmail: jtleek at gmail.com