Package: switchBox Version: 1.36.0 Command: /Library/Frameworks/R.framework/Resources/bin/R CMD check --install=check:switchBox.install-out.txt --library=/Library/Frameworks/R.framework/Resources/library --no-vignettes --timings switchBox_1.36.0.tar.gz StartedAt: 2023-10-19 05:47:59 -0400 (Thu, 19 Oct 2023) EndedAt: 2023-10-19 05:49:28 -0400 (Thu, 19 Oct 2023) EllapsedTime: 88.9 seconds RetCode: 0 Status: WARNINGS CheckDir: switchBox.Rcheck Warnings: 3