Package: vulcan Version: 1.22.0 Command: /Library/Frameworks/R.framework/Resources/bin/R CMD build --keep-empty-dirs --no-resave-data vulcan StartedAt: 2023-10-17 00:39:43 -0400 (Tue, 17 Oct 2023) EndedAt: 2023-10-17 00:42:18 -0400 (Tue, 17 Oct 2023) EllapsedTime: 155.1 seconds RetCode: 0 Status: OK PackageFile: vulcan_1.22.0.tar.gz PackageFileSize: 390.7 KiB