Package: zenith Version: 1.2.0 Command: /Library/Frameworks/R.framework/Resources/bin/R CMD build --keep-empty-dirs --no-resave-data zenith StartedAt: 2023-10-17 01:01:18 -0400 (Tue, 17 Oct 2023) EndedAt: 2023-10-17 01:03:36 -0400 (Tue, 17 Oct 2023) EllapsedTime: 137.4 seconds RetCode: 0 Status: OK PackageFile: zenith_1.2.0.tar.gz PackageFileSize: 4.159 MiB