Package: ASAFE Version: 1.25.0 Command: chmod a+r ASAFE -R && F:\biocbuild\bbs-3.17-bioc\R\bin\R.exe CMD build --keep-empty-dirs --no-resave-data ASAFE StartedAt: 2022-12-28 16:39:56 -0500 (Wed, 28 Dec 2022) EndedAt: 2022-12-28 16:40:09 -0500 (Wed, 28 Dec 2022) EllapsedTime: 12.1 seconds RetCode: 0 Status: OK PackageFile: ASAFE_1.25.0.tar.gz PackageFileSize: 427.6 KiB