Package: AUCell Version: 1.21.2 Command: rm -rf AUCell.buildbin-libdir && mkdir AUCell.buildbin-libdir && F:\biocbuild\bbs-3.17-bioc\R\bin\R.exe CMD INSTALL --build --library=AUCell.buildbin-libdir AUCell_1.21.2.tar.gz StartedAt: 2022-12-29 04:50:29 -0500 (Thu, 29 Dec 2022) EndedAt: 2022-12-29 04:51:01 -0500 (Thu, 29 Dec 2022) EllapsedTime: 32.2 seconds RetCode: 0 Status: OK PackageFile: AUCell_1.21.2.zip PackageFileSize: 1.344 MiB