Package: AUCell Version: 1.21.2 Command: F:\biocbuild\bbs-3.17-bioc\R\bin\R.exe CMD INSTALL AUCell StartedAt: 2022-12-28 16:05:52 -0500 (Wed, 28 Dec 2022) EndedAt: 2022-12-28 16:06:28 -0500 (Wed, 28 Dec 2022) EllapsedTime: 35.4 seconds RetCode: 0 Status: OK