Package: AffyRNADegradation Version: 1.45.0 Command: rm -rf AffyRNADegradation.buildbin-libdir && mkdir AffyRNADegradation.buildbin-libdir && F:\biocbuild\bbs-3.17-bioc\R\bin\R.exe CMD INSTALL --build --library=AffyRNADegradation.buildbin-libdir AffyRNADegradation_1.45.0.tar.gz StartedAt: 2022-12-29 04:48:49 -0500 (Thu, 29 Dec 2022) EndedAt: 2022-12-29 04:49:03 -0500 (Thu, 29 Dec 2022) EllapsedTime: 14.1 seconds RetCode: 0 Status: OK PackageFile: AffyRNADegradation_1.45.0.zip PackageFileSize: 314.8 KiB