Package: AffyRNADegradation Version: 1.45.0 Command: chmod a+r AffyRNADegradation -R && F:\biocbuild\bbs-3.17-bioc\R\bin\R.exe CMD build --keep-empty-dirs --no-resave-data AffyRNADegradation StartedAt: 2022-12-28 16:35:07 -0500 (Wed, 28 Dec 2022) EndedAt: 2022-12-28 16:36:41 -0500 (Wed, 28 Dec 2022) EllapsedTime: 93.5 seconds RetCode: 0 Status: OK PackageFile: AffyRNADegradation_1.45.0.tar.gz PackageFileSize: 274.3 KiB