git_url: https://git.bioconductor.org/packages/AllelicImbalance git_branch: master git_last_commit: 330d8ed git_last_commit_date: 2022-11-01 11:08:46 -0500 (Tue, 01 Nov 2022) Package: AllelicImbalance Version: 1.37.0 Maintainer: Jesper R Gadin MaintainerEmail: j.r.gadin at gmail.com