Package: Anaquin Version: 2.23.0 Command: rm -rf Anaquin.buildbin-libdir && mkdir Anaquin.buildbin-libdir && F:\biocbuild\bbs-3.17-bioc\R\bin\R.exe CMD INSTALL --build --library=Anaquin.buildbin-libdir Anaquin_2.23.0.tar.gz StartedAt: 2022-12-29 04:49:16 -0500 (Thu, 29 Dec 2022) EndedAt: 2022-12-29 04:49:26 -0500 (Thu, 29 Dec 2022) EllapsedTime: 10.2 seconds RetCode: 0 Status: OK PackageFile: Anaquin_2.23.0.zip PackageFileSize: 458.4 KiB