Package: Anaquin Version: 2.23.0 Command: F:\biocbuild\bbs-3.17-bioc\R\bin\R.exe CMD check --no-multiarch --install=check:Anaquin.install-out.txt --library=F:\biocbuild\bbs-3.17-bioc\R\library --no-vignettes --timings Anaquin_2.23.0.tar.gz StartedAt: 2022-12-28 21:31:14 -0500 (Wed, 28 Dec 2022) EndedAt: 2022-12-28 21:32:11 -0500 (Wed, 28 Dec 2022) EllapsedTime: 56.8 seconds RetCode: 0 Status: OK CheckDir: Anaquin.Rcheck Warnings: 0