Package: CSAR Version: 1.51.0 Command: rm -rf CSAR.buildbin-libdir && mkdir CSAR.buildbin-libdir && F:\biocbuild\bbs-3.17-bioc\R\bin\R.exe CMD INSTALL --build --library=CSAR.buildbin-libdir CSAR_1.51.0.tar.gz StartedAt: 2022-12-29 05:01:26 -0500 (Thu, 29 Dec 2022) EndedAt: 2022-12-29 05:01:46 -0500 (Thu, 29 Dec 2022) EllapsedTime: 20.4 seconds RetCode: 0 Status: OK PackageFile: CSAR_1.51.0.zip PackageFileSize: 189.4 KiB