Package: CTSV Version: 1.1.0 Command: rm -rf CTSV.buildbin-libdir && mkdir CTSV.buildbin-libdir && F:\biocbuild\bbs-3.17-bioc\R\bin\R.exe CMD INSTALL --build --library=CTSV.buildbin-libdir CTSV_1.1.0.tar.gz StartedAt: 2022-12-29 05:01:46 -0500 (Thu, 29 Dec 2022) EndedAt: 2022-12-29 05:02:23 -0500 (Thu, 29 Dec 2022) EllapsedTime: 37.0 seconds RetCode: 0 Status: OK PackageFile: CTSV_1.1.0.zip PackageFileSize: 310.4 KiB