git_url: https://git.bioconductor.org/packages/DRIMSeq git_branch: master git_last_commit: 0ff62e8 git_last_commit_date: 2022-11-01 11:13:16 -0500 (Tue, 01 Nov 2022) Package: DRIMSeq Version: 1.27.0 Maintainer: Malgorzata Nowicka MaintainerEmail: gosia.nowicka.uzh at gmail.com