git_url: https://git.bioconductor.org/packages/Gviz git_branch: master git_last_commit: aefa8d1 git_last_commit_date: 2022-11-01 11:06:41 -0500 (Tue, 01 Nov 2022) Package: Gviz Version: 1.43.0 Maintainer: Robert Ivanek MaintainerEmail: robert.ivanek at unibas.ch