Package: InteractiveComplexHeatmap Version: 1.7.0 Command: F:\biocbuild\bbs-3.17-bioc\R\bin\R.exe CMD INSTALL InteractiveComplexHeatmap StartedAt: 2022-12-28 15:59:01 -0500 (Wed, 28 Dec 2022) EndedAt: 2022-12-28 15:59:20 -0500 (Wed, 28 Dec 2022) EllapsedTime: 19.9 seconds RetCode: 0 Status: OK