Package: LBE Version: 1.67.0 Command: F:\biocbuild\bbs-3.17-bioc\R\bin\R.exe CMD check --no-multiarch --install=check:LBE.install-out.txt --library=F:\biocbuild\bbs-3.17-bioc\R\library --no-vignettes --timings LBE_1.67.0.tar.gz StartedAt: 2022-12-29 00:52:46 -0500 (Thu, 29 Dec 2022) EndedAt: 2022-12-29 00:53:14 -0500 (Thu, 29 Dec 2022) EllapsedTime: 28.5 seconds RetCode: 0 Status: OK CheckDir: LBE.Rcheck Warnings: 0